{
 "currentVersion": 11.5,
 "cimVersion": "3.5.0",
 "serviceDescription": "",
 "mapName": "Contour",
 "description": "",
 "copyrightText": "",
 "supportsDynamicLayers": true,
 "layers": [
  {
   "id": 2,
   "name": "2022 Contours GUO",
   "parentLayerId": -1,
   "defaultVisibility": true,
   "subLayerIds": [
    0,
    1
   ],
   "minScale": 0,
   "maxScale": 0,
   "type": "Group Layer",
   "supportsDynamicLegends": false
  },
  {
   "id": 0,
   "name": "Contour 2ft 2020",
   "parentLayerId": 2,
   "defaultVisibility": true,
   "subLayerIds": null,
   "minScale": 3500,
   "maxScale": 50,
   "type": "Feature Layer",
   "geometryType": "esriGeometryPolyline",
   "supportsDynamicLegends": true
  },
  {
   "id": 1,
   "name": "Contour 10ft 2020",
   "parentLayerId": 2,
   "defaultVisibility": true,
   "subLayerIds": null,
   "minScale": 144197,
   "maxScale": 50,
   "type": "Feature Layer",
   "geometryType": "esriGeometryPolyline",
   "supportsDynamicLegends": true
  }
 ],
 "tables": [],
 "spatialReference": {
  "wkid": 102756,
  "latestWkid": 3737,
  "xyTolerance": 0.003280833333333333,
  "zTolerance": 0.001,
  "mTolerance": 0.001,
  "falseX": -17135100,
  "falseY": -47198800,
  "xyUnits": 3048.0060960121928,
  "falseZ": -100000,
  "zUnits": 10000,
  "falseM": -100000,
  "mUnits": 10000
 },
 "singleFusedMapCache": true,
 "tileInfo": {
  "rows": 256,
  "cols": 256,
  "dpi": 96,
  "format": "PNG8",
  "compressionQuality": 0,
  "origin": {
   "x": -3.150039502523209E7,
   "y": 1.842703391591847E7
  },
  "spatialReference": {
   "wkid": 102756,
   "latestWkid": 3737,
   "xyTolerance": 0.003280833333333333,
   "zTolerance": 0.001,
   "mTolerance": 0.001,
   "falseX": -17135100,
   "falseY": -47198800,
   "xyUnits": 3048.0060960121928,
   "falseZ": -100000,
   "zUnits": 10000,
   "falseM": -100000,
   "mUnits": 10000
  },
  "lods": [
   {
    "level": 0,
    "resolution": 256349.4403012924,
    "scale": 2.9531514585738057E8
   },
   {
    "level": 1,
    "resolution": 128174.7201506462,
    "scale": 1.4765757292869028E8
   },
   {
    "level": 2,
    "resolution": 64087.3600753231,
    "scale": 7.382878646434514E7
   },
   {
    "level": 3,
    "resolution": 32043.68003766155,
    "scale": 3.691439323217257E7
   },
   {
    "level": 4,
    "resolution": 16021.840018830775,
    "scale": 1.8457196616086286E7
   },
   {
    "level": 5,
    "resolution": 8010.9200094153875,
    "scale": 9228598.308043143
   },
   {
    "level": 6,
    "resolution": 4005.4600047076938,
    "scale": 4614299.154021571
   },
   {
    "level": 7,
    "resolution": 2002.7300023538469,
    "scale": 2307149.5770107857
   },
   {
    "level": 8,
    "resolution": 1001.3650011769234,
    "scale": 1153574.7885053928
   },
   {
    "level": 9,
    "resolution": 500.6825005884617,
    "scale": 576787.3942526964
   },
   {
    "level": 10,
    "resolution": 250.34125029423086,
    "scale": 288393.6971263482
   },
   {
    "level": 11,
    "resolution": 125.17062514711543,
    "scale": 144196.8485631741
   },
   {
    "level": 12,
    "resolution": 62.585312573557715,
    "scale": 72098.42428158705
   },
   {
    "level": 13,
    "resolution": 31.292656286778858,
    "scale": 36049.21214079353
   },
   {
    "level": 14,
    "resolution": 15.646328143389429,
    "scale": 18024.606070396763
   },
   {
    "level": 15,
    "resolution": 7.823164071694714,
    "scale": 9012.303035198382
   },
   {
    "level": 16,
    "resolution": 3.911582035847357,
    "scale": 4506.151517599191
   },
   {
    "level": 17,
    "resolution": 1.9557910179236786,
    "scale": 2253.0757587995954
   },
   {
    "level": 18,
    "resolution": 0.9778955089618393,
    "scale": 1126.5378793997977
   },
   {
    "level": 19,
    "resolution": 0.48894775448091965,
    "scale": 563.2689396998989
   },
   {
    "level": 20,
    "resolution": 0.24447387724045982,
    "scale": 281.6344698499494
   },
   {
    "level": 21,
    "resolution": 0.12223693862022991,
    "scale": 140.8172349249747
   },
   {
    "level": 22,
    "resolution": 0.061118469310114956,
    "scale": 70.40861746248736
   },
   {
    "level": 23,
    "resolution": 0.030559234655057478,
    "scale": 35.20430873124368
   }
  ]
 },
 "storageInfo": {
  "storageFormat": "esriMapCacheStorageModeCompactV2",
  "packetSize": 128
 },
 "initialExtent": {
  "xmin": 1299142.03127248,
  "ymin": 1830135.0170712294,
  "xmax": 1477227.5388260281,
  "ymax": 1922152.0590743674,
  "spatialReference": {
   "wkid": 102756,
   "latestWkid": 3737,
   "xyTolerance": 0.003280833333333333,
   "zTolerance": 0.001,
   "mTolerance": 0.001,
   "falseX": -17135100,
   "falseY": -47198800,
   "xyUnits": 3048.0060960121928,
   "falseZ": -100000,
   "zUnits": 10000,
   "falseM": -100000,
   "mUnits": 10000
  }
 },
 "fullExtent": {
  "xmin": 1345873.2525465041,
  "ymin": 1834448.738752596,
  "xmax": 1430496.1810693368,
  "ymax": 1917834.971258007,
  "zmin": 0,
  "zmax": 0,
  "spatialReference": {
   "wkid": 102756,
   "latestWkid": 3737,
   "xyTolerance": 0.003280833333333333,
   "zTolerance": 0.001,
   "mTolerance": 0.001,
   "falseX": -17135100,
   "falseY": -47198800,
   "xyUnits": 3048.0060960121928,
   "falseZ": -100000,
   "zUnits": 10000,
   "falseM": -100000,
   "mUnits": 10000
  }
 },
 "datesInUnknownTimezone": false,
 "minScale": 144196.8485631741,
 "maxScale": 2253.0757587995954,
 "minLOD": 11,
 "maxLOD": 17,
 "units": "esriFeet",
 "supportedImageFormatTypes": "PNG32,PNG24,PNG,JPG,DIB,TIFF,EMF,PS,PDF,GIF,SVG,SVGZ,BMP",
 "documentInfo": {
  "Title": "Contour",
  "Author": "",
  "Comments": "",
  "Subject": "",
  "Category": "",
  "Version": "3.5.0",
  "AntialiasingMode": "Fast",
  "TextAntialiasingMode": "Force",
  "Keywords": "#Sheridan,Sheridan,City Of Sheridan,terrain,topographic,Contours"
 },
 "supportsQueryDomains": true,
 "capabilities": "Map,Query",
 "supportedQueryFormats": "JSON, geoJSON, PBF",
 "hasVersionedData": true,
 "exportTilesAllowed": false,
 "referenceScale": 0.0,
 "datumTransformations": [
  {
   "geoTransforms": [
    {
     "wkid": 108190,
     "latestWkid": 108190,
     "transformForward": true,
     "name": "WGS_1984_(ITRF00)_To_NAD_1983"
    }
   ]
  },
  {
   "geoTransforms": [
    {
     "wkid": 108190,
     "latestWkid": 108190,
     "transformForward": false,
     "name": "WGS_1984_(ITRF00)_To_NAD_1983"
    }
   ]
  },
  {
   "geoTransforms": [
    {
     "wkid": 108190,
     "latestWkid": 108190,
     "transformForward": true,
     "name": "WGS_1984_(ITRF00)_To_NAD_1983"
    }
   ]
  },
  {
   "geoTransforms": [
    {
     "wkid": 108190,
     "latestWkid": 108190,
     "transformForward": false,
     "name": "WGS_1984_(ITRF00)_To_NAD_1983"
    }
   ]
  }
 ],
 "supportsDatumTransformation": true,
 "archivingInfo": {
  "supportsHistoricMoment": false
 },
 "supportsClipping": true,
 "supportsSpatialFilter": true,
 "supportsTimeRelation": true,
 "supportsQueryDataElements": true,
 "mapUnits": {
  "uwkid": 9003
 },
 "maxSelectionCount": 2000,
 "maxRecordCount": 2000,
 "maxImageHeight": 4096,
 "maxImageWidth": 4096,
 "supportedExtensions": "WMSServer",
 "resampling": false,
 "serviceItemId": "bad5bb9cace444cea27bbffc8a366748"
}
